BEGIN:VCALENDAR
VERSION:2.0
PRODID:-//Nunawading Wargames Association - ECPv6.15.20//NONSGML v1.0//EN
CALSCALE:GREGORIAN
METHOD:PUBLISH
X-ORIGINAL-URL:https://nwa.org.au
X-WR-CALDESC:Events for Nunawading Wargames Association
REFRESH-INTERVAL;VALUE=DURATION:PT1H
X-Robots-Tag:noindex
X-PUBLISHED-TTL:PT1H
BEGIN:VTIMEZONE
TZID:Australia/Melbourne
BEGIN:STANDARD
TZOFFSETFROM:+1100
TZOFFSETTO:+1000
TZNAME:AEST
DTSTART:20250405T160000
END:STANDARD
BEGIN:DAYLIGHT
TZOFFSETFROM:+1000
TZOFFSETTO:+1100
TZNAME:AEDT
DTSTART:20251004T160000
END:DAYLIGHT
BEGIN:STANDARD
TZOFFSETFROM:+1100
TZOFFSETTO:+1000
TZNAME:AEST
DTSTART:20260404T160000
END:STANDARD
BEGIN:DAYLIGHT
TZOFFSETFROM:+1000
TZOFFSETTO:+1100
TZNAME:AEDT
DTSTART:20261003T160000
END:DAYLIGHT
BEGIN:STANDARD
TZOFFSETFROM:+1100
TZOFFSETTO:+1000
TZNAME:AEST
DTSTART:20270403T160000
END:STANDARD
BEGIN:DAYLIGHT
TZOFFSETFROM:+1000
TZOFFSETTO:+1100
TZNAME:AEDT
DTSTART:20271002T160000
END:DAYLIGHT
END:VTIMEZONE
BEGIN:VEVENT
DTSTART;TZID=Australia/Melbourne:20260621T090000
DTEND;TZID=Australia/Melbourne:20260621T170000
DTSTAMP:20260424T051210
CREATED:20251212T025447Z
LAST-MODIFIED:20260321T215042Z
UID:10652-1782032400-1782061200@nwa.org.au
SUMMARY:Battletech: Operation Demon Star
DESCRIPTION:Operation Demon Star is our first ever BattleTech Total Warfare narrative event set during the opening waves of the fourth succession war. These scenarios tell the story of the planet Algol\, the “Demon Star”\, as invading forces allied to the F-C alliance squared off against the forces aligned to the Kapteyn Accords. \n\n\n\nFitting to the timeline\, this event requires only the rules found in the Battletech Box Set using introductory technology ‘mechs only. This narrative event format is intended for both new players and veterans alike. Players are split into two teams on the day based on their allegiance to compete for the conquest of the planet. \n\n\n\nWill you be a house loyalist or a mercenary working for the highest bidder? \n\n\n\nWhile history says the planet will fall\, the question remains how fast? Can your forces make a difference? As the invader of the F-C alliance can you take this world cleanly and decisively\, or as the defenders can you make each gain slow and painful to aid the forces of the Kapteyn Alliance and slow Algol’s capture in wave one of the fourth succession war. \n\n\n\nWe hope to see you on the day. \n\n\n\nEvent Pack Here (draft)
URL:https://nwa.org.au/event/battletech-operation-demon-star/
LOCATION:Nunawading Wargames Association\, 2 Diggers Way\, Blackburn\, 3130\, Australia
CATEGORIES:NWA Events,Tournaments
ATTACH;FMTTYPE=image/jpeg:https://nwa.org.au/wp-content/uploads/2025/12/BattletechODS2.jpg
END:VEVENT
END:VCALENDAR