BEGIN:VCALENDAR
VERSION:2.0
PRODID:-//Nunawading Wargames Association - ECPv6.15.20//NONSGML v1.0//EN
CALSCALE:GREGORIAN
METHOD:PUBLISH
X-WR-CALNAME:Nunawading Wargames Association
X-ORIGINAL-URL:https://nwa.org.au
X-WR-CALDESC:Events for Nunawading Wargames Association
REFRESH-INTERVAL;VALUE=DURATION:PT1H
X-Robots-Tag:noindex
X-PUBLISHED-TTL:PT1H
BEGIN:VTIMEZONE
TZID:Australia/Melbourne
BEGIN:STANDARD
TZOFFSETFROM:+1100
TZOFFSETTO:+1000
TZNAME:AEST
DTSTART:20240406T160000
END:STANDARD
BEGIN:DAYLIGHT
TZOFFSETFROM:+1000
TZOFFSETTO:+1100
TZNAME:AEDT
DTSTART:20241005T160000
END:DAYLIGHT
BEGIN:STANDARD
TZOFFSETFROM:+1100
TZOFFSETTO:+1000
TZNAME:AEST
DTSTART:20250405T160000
END:STANDARD
BEGIN:DAYLIGHT
TZOFFSETFROM:+1000
TZOFFSETTO:+1100
TZNAME:AEDT
DTSTART:20251004T160000
END:DAYLIGHT
BEGIN:STANDARD
TZOFFSETFROM:+1100
TZOFFSETTO:+1000
TZNAME:AEST
DTSTART:20260404T160000
END:STANDARD
BEGIN:DAYLIGHT
TZOFFSETFROM:+1000
TZOFFSETTO:+1100
TZNAME:AEDT
DTSTART:20261003T160000
END:DAYLIGHT
END:VTIMEZONE
BEGIN:VEVENT
DTSTART;TZID=Australia/Melbourne:20250816T083000
DTEND;TZID=Australia/Melbourne:20250816T170000
DTSTAMP:20260424T153718
CREATED:20250331T085125Z
LAST-MODIFIED:20250813T083708Z
UID:8939-1755333000-1755363600@nwa.org.au
SUMMARY:Marvel Crisis Protocol Victorius '25
DESCRIPTION:Watch this Space for Details Coming Soon\n\n\n\n\n\n\n\n\n\n\n\n\n\n\n\nGeneric Event Information\n\n\n\nPlease note that when registering\, your email address will be forwarded to the relevant Tournament Organiser. We do this so that they can contact you with important updates and new information that is relevant to your registration and tournament. If you do not want your email address to be supplied to the Tournament Organiser then please email victorius@nwa.org.au. \n\n\n\nPayment can be made by PayPal (using a PayPal account or credit/debit card). Ensure you use your Registration Code is included in any correspondence regarding payments so we can identify who you are.
URL:https://nwa.org.au/event/marvel-crisis-protocol-victorius-25/
CATEGORIES:Victorius '25
ATTACH;FMTTYPE=image/png:https://nwa.org.au/wp-content/uploads/2025/03/MCP.png
END:VEVENT
BEGIN:VEVENT
DTSTART;TZID=Australia/Melbourne:20250816T083000
DTEND;TZID=Australia/Melbourne:20250816T170000
DTSTAMP:20260424T153718
CREATED:20250331T093027Z
LAST-MODIFIED:20250807T105951Z
UID:8959-1755333000-1755363600@nwa.org.au
SUMMARY:Middle Earth Strategy Battle Game (MESBG) Victorius '25
DESCRIPTION:A 500 point 3-game beginner friendly Middle-Earth Strategy Battle Game tournament.  Armies may not exceed 500pts can must be built using the army lists and profiles in the current publications: The Armies of Lord of the Rings and The Armies of The Hobbit.  Army lists and profiles from The Armies of Middle-Earth and Legacies of Middle-Earth. \n\n\n\nFull details are in the players pack. \n\n\n\nVictorius%20Players%20guideDownload\n\n\n\n\n\n\n\n\n\n\n\n\n\n\n\nGeneric Event Information\n\n\n\nPlease note that when registering\, your email address will be forwarded to the relevant Tournament Organiser. We do this so that they can contact you with important updates and new information that is relevant to your registration and tournament. If you do not want your email address to be supplied to the Tournament Organiser then please email victorius@nwa.org.au. \n\n\n\nPayment can be made by PayPal (using a PayPal account or credit/debit card). Ensure you use your Registration Code is included in any correspondence regarding payments so we can identify who you are.
URL:https://nwa.org.au/event/mesbg-victorius-25/
LOCATION:Box Hill Town Hall\, 1022 Whitehorse Road\, Box Hill\, Victoria\, 3128\, Australia
CATEGORIES:Tournaments,Victorius '25
ATTACH;FMTTYPE=image/png:https://nwa.org.au/wp-content/uploads/2025/03/MESBG.png
ORGANIZER;CN="Tim Wraight":MAILTO:timwraight@icloud.com
END:VEVENT
BEGIN:VEVENT
DTSTART;TZID=Australia/Melbourne:20250816T083000
DTEND;TZID=Australia/Melbourne:20250816T170000
DTSTAMP:20260424T153718
CREATED:20250511T030820Z
LAST-MODIFIED:20250703T080244Z
UID:9209-1755333000-1755363600@nwa.org.au
SUMMARY:40K Victorius '25
DESCRIPTION:A 1\,500-point 3-game tournament focused on introducing players to competitive formats. Each round will run for 2 hours\, with breaks between to give players the opportunity to have lunch and enjoy the rest of what Victorius has to offer. In addition to buying a ticket\, all players must register their attendance at the Best Coast Pairings website linked below which will be used to record scores and generate pairings for each round. For more details on the schedule\, army composition\, scoring and more\, please read the player pack linked below! \n\n\n\n40K Best Coast Pairings Link40k Player Pack \n\n\n\n\n\n\n\n\n\n\n\n\n\n\n\nGeneric Event Information\n\n\n\nPlease note that when registering\, your email address will be forwarded to the relevant Tournament Organiser. We do this so that they can contact you with important updates and new information that is relevant to your registration and tournament. If you do not want your email address to be supplied to the Tournament Organiser then please email victorius@nwa.org.au. \n\n\n\nPayment can be made by PayPal (using a PayPal account or credit/debit card). Ensure you use your Registration Code is included in any correspondence regarding payments so we can identify who you are.
URL:https://nwa.org.au/event/40k-victorius-25/
LOCATION:Box Hill Town Hall\, 1022 Whitehorse Road\, Box Hill\, Victoria\, 3128\, Australia
CATEGORIES:Tournaments,Victorius '25
ATTACH;FMTTYPE=image/png:https://nwa.org.au/wp-content/uploads/2025/05/40K.png
ORGANIZER;CN="John Roberts":MAILTO:info@miscastmisfits.org.au
END:VEVENT
BEGIN:VEVENT
DTSTART;TZID=Australia/Melbourne:20250816T083000
DTEND;TZID=Australia/Melbourne:20250816T170000
DTSTAMP:20260424T153718
CREATED:20250511T032203Z
LAST-MODIFIED:20250804T072246Z
UID:9217-1755333000-1755363600@nwa.org.au
SUMMARY:AOS Victorius '25
DESCRIPTION:A 1\,500-point 3-game tournament focused on introducing players to competitive formats. Each round will run for 2 hours\, with breaks between to give players the opportunity to have lunch and enjoy the rest of what Victorius has to offer. In addition to buying a ticket\, all players must register their attendance at the Best Coast Pairings website linked below which will be used to record scores and generate pairings for each round. For more details on the schedule\, army composition\, scoring and more\, please read the player pack linked below! \n\n\n\nAoS Best Coast Pairings linkAoS Player Pack Link \n\n\n\n\n\n\n\n\n\n\n\n\n\n\n\nGeneric Event Information\n\n\n\nPlease note that when registering\, your email address will be forwarded to the relevant Tournament Organiser. We do this so that they can contact you with important updates and new information that is relevant to your registration and tournament. If you do not want your email address to be supplied to the Tournament Organiser then please email victorius@nwa.org.au. \n\n\n\nPayment can be made by PayPal (using a PayPal account or credit/debit card). Ensure you use your Registration Code is included in any correspondence regarding payments so we can identify who you are.
URL:https://nwa.org.au/event/aos-victorius-25/
LOCATION:Box Hill Town Hall\, 1022 Whitehorse Road\, Box Hill\, Victoria\, 3128\, Australia
CATEGORIES:Tournaments,Victorius '25
ATTACH;FMTTYPE=image/png:https://nwa.org.au/wp-content/uploads/2025/05/AOS.png
ORGANIZER;CN="John Roberts":MAILTO:info@miscastmisfits.org.au
END:VEVENT
BEGIN:VEVENT
DTSTART;TZID=Australia/Melbourne:20250816T100000
DTEND;TZID=Australia/Melbourne:20250816T160000
DTSTAMP:20260424T153718
CREATED:20241127T083932Z
LAST-MODIFIED:20250428T115215Z
UID:8276-1755338400-1755360000@nwa.org.au
SUMMARY:Victorius '25 Tabletop Games Show
DESCRIPTION:
URL:https://nwa.org.au/event/victorius-25-tabletop-games-show/
CATEGORIES:NWA Events,Victorius '25
ATTACH;FMTTYPE=image/jpeg:https://nwa.org.au/wp-content/uploads/2025/03/Victorius_25_Social_1200X1200_filter.jpg
END:VEVENT
END:VCALENDAR