BEGIN:VCALENDAR
VERSION:2.0
PRODID:-//Nunawading Wargames Association - ECPv6.15.20//NONSGML v1.0//EN
CALSCALE:GREGORIAN
METHOD:PUBLISH
X-WR-CALNAME:Nunawading Wargames Association
X-ORIGINAL-URL:https://nwa.org.au
X-WR-CALDESC:Events for Nunawading Wargames Association
REFRESH-INTERVAL;VALUE=DURATION:PT1H
X-Robots-Tag:noindex
X-PUBLISHED-TTL:PT1H
BEGIN:VTIMEZONE
TZID:Australia/Melbourne
BEGIN:STANDARD
TZOFFSETFROM:+1100
TZOFFSETTO:+1000
TZNAME:AEST
DTSTART:20240406T160000
END:STANDARD
BEGIN:DAYLIGHT
TZOFFSETFROM:+1000
TZOFFSETTO:+1100
TZNAME:AEDT
DTSTART:20241005T160000
END:DAYLIGHT
BEGIN:STANDARD
TZOFFSETFROM:+1100
TZOFFSETTO:+1000
TZNAME:AEST
DTSTART:20250405T160000
END:STANDARD
BEGIN:DAYLIGHT
TZOFFSETFROM:+1000
TZOFFSETTO:+1100
TZNAME:AEDT
DTSTART:20251004T160000
END:DAYLIGHT
BEGIN:STANDARD
TZOFFSETFROM:+1100
TZOFFSETTO:+1000
TZNAME:AEST
DTSTART:20260404T160000
END:STANDARD
BEGIN:DAYLIGHT
TZOFFSETFROM:+1000
TZOFFSETTO:+1100
TZNAME:AEDT
DTSTART:20261003T160000
END:DAYLIGHT
END:VTIMEZONE
BEGIN:VEVENT
DTSTART;TZID=Australia/Melbourne:20250518T090000
DTEND;TZID=Australia/Melbourne:20250518T170000
DTSTAMP:20260424T200224
CREATED:20241127T081618Z
LAST-MODIFIED:20250425T054205Z
UID:8268-1747558800-1747587600@nwa.org.au
SUMMARY:Victorian Short Course ADLG Championship
DESCRIPTION:The Victorian Short Course L’Art de la Guerre Championship is the first run by NWA in 2025. It will use 15mm scale 100pt armies and is focused on multiple fast fun games in one day. The tournament will consist of four rounds\, each of up to one hour and fifteen minutes in length and a minimum of five turns. Player pairings for the first round will be determined randomly\, followed in subsequent rounds by the Swiss chess system. Scoring will be as per the ADLG Technical Board system. At the end of each round players will be required to submit a Deployment Sheet\, which will be provided to each of them every round. Further information and downloads can be obtained from the Art de la Guerre webpage. \n\n\n\nThe tournament will be run as a single pool of players\, with a dark age theme. Armies can be chosen from that group of lists in the ADLG rulebook. If a participant would like to use another army from outside that list which substantially fought with in the dark age period (500 A.D. to 1050 A.D.) they make a request for another option via email to the organiser. \n\n\n\nPlease use this xls sheet on the ADLG website\, using the reduced format tab to create and submit your army list no later than 6 pm Friday 16th May.
URL:https://nwa.org.au/event/victorian-short-course-adlg-championship/
LOCATION:Blackburn RSL\, 2 Diggers Way\, Blackburn\, Victoria\, 3130\, Australia
CATEGORIES:Tournaments
ATTACH;FMTTYPE=image/png:https://nwa.org.au/wp-content/uploads/2024/11/VSC_ADLG_CHAMP.png
ORGANIZER;CN="Geoff Kelly":MAILTO:President@nwa.org.au
END:VEVENT
BEGIN:VEVENT
DTSTART;TZID=Australia/Melbourne:20250518T090000
DTEND;TZID=Australia/Melbourne:20250518T170000
DTSTAMP:20260424T200225
CREATED:20250327T082841Z
LAST-MODIFIED:20250327T082843Z
UID:8849-1747558800-1747587600@nwa.org.au
SUMMARY:MCP - Bitter Rivals - Rematch
DESCRIPTION:This tournament is focused on growing the MCP community and is new player friendly. \n\n\n\nBitter Rivals uses all the challenger rules as guided by atomic mass games and follows the “standard” timelines for roster construction. \n\n\n\n3 round Swiss format with tie breakers determined on strength of schedule  \n\n\n\nProxy miniatures allowed as long as they clearly represent the model
URL:https://nwa.org.au/event/mcp-bitter-rivals-rematch/
CATEGORIES:NWA Events,Tournaments
ATTACH;FMTTYPE=image/png:https://nwa.org.au/wp-content/uploads/2025/03/MCPRematch.png
END:VEVENT
BEGIN:VEVENT
DTSTART;TZID=Australia/Melbourne:20250518T090000
DTEND;TZID=Australia/Melbourne:20250518T170000
DTSTAMP:20260424T200225
CREATED:20250327T103129Z
LAST-MODIFIED:20250327T104806Z
UID:8855-1747558800-1747587600@nwa.org.au
SUMMARY:NECROLYMPICS - NECROMUNDA
DESCRIPTION:The Necrolympics is a one-day Necromunda event with a focus on fun\, fair play and throwing a few twists in for established players. Games will be played with the Necromunda: Core Rulebook from 2023 and relevant expansions and errata. To check if a rule is relevant\, please contact the tournament organiser.  \n\n\n\nDownload the Player Pack here
URL:https://nwa.org.au/event/necrolympics-necromunda/
LOCATION:Blackburn RSL\, 2 Diggers Way\, Blackburn\, Victoria\, 3130\, Australia
CATEGORIES:Tournaments
ATTACH;FMTTYPE=image/png:https://nwa.org.au/wp-content/uploads/2025/03/WEB-NECROMUNDA-1.png
ORGANIZER;CN="James Wright":MAILTO:hatguy.james@gmail.com
END:VEVENT
END:VCALENDAR